BEGIN:VCALENDAR
VERSION:2.0
PRODID:-//Tukios.com/
BEGIN:VEVENT
UID:16e6f5a0-e53d-48c2-9be2-2a4377c65588@www.migliacciofuneralhome.com
DTSTAMP:20260420T121048Z
DTSTART:20260421T200000Z
DTEND:20260422T000000Z
SUMMARY:Visitation
DESCRIPTION:
URL:https://www.migliacciofuneralhome.com/obituaries/michael-damato
LOCATION: 851 Kennedy Blvd  Bayonne NJ 07002
GEO:40.6748311;-74.1161505
END:VEVENT
END:VCALENDAR