BEGIN:VCALENDAR
VERSION:2.0
PRODID:-//Tukios.com/
BEGIN:VEVENT
UID:ee7be551-89e5-43e9-9074-457385563cb9@www.migliacciofuneralhome.com
DTSTAMP:20260420T120642Z
DTSTART:20260422T150000Z
DTEND:20260422T160000Z
SUMMARY:Funeral Service
DESCRIPTION:
URL:https://www.migliacciofuneralhome.com/obituaries/michael-damato
LOCATION:St. John Paul II Parish (Mt. Carmel Church) 39 East 22nd Street  
	Bayonne NJ 07002
GEO:40.6626051;-74.1171639
END:VEVENT
END:VCALENDAR