BEGIN:VCALENDAR
VERSION:2.0
PRODID:-//Tukios.com/
BEGIN:VEVENT
UID:673fcbf7-207d-4f5f-a2b9-f67cd50df438@www.migliacciofuneralhome.com
DTSTAMP:20260425T001508Z
DTSTART:20260429T190000Z
DTEND:20260430T000000Z
SUMMARY:Visitation
DESCRIPTION:
URL:https://www.migliacciofuneralhome.com/obituaries/paul-cancro-jr
LOCATION:Migliaccio Funeral Home 851 Kennedy Blvd  Bayonne NJ 07002
GEO:40.6748311;-74.1161505
END:VEVENT
END:VCALENDAR