BEGIN:VCALENDAR
VERSION:2.0
PRODID:-//Tukios.com/
BEGIN:VEVENT
UID:0e9c05f1-ac73-4900-94c0-65916ff383ce@www.migliacciofuneralhome.com
DTSTAMP:20260425T002133Z
DTSTART:20260430T144500Z
DTEND:20260430T154500Z
SUMMARY:Funeral Service
DESCRIPTION:
URL:https://www.migliacciofuneralhome.com/obituaries/paul-cancro-jr
LOCATION:St. Henry's Church 645 Avenue C  Bayonne NJ 07002
GEO:40.6695338;-74.1173995
END:VEVENT
END:VCALENDAR