BEGIN:VCALENDAR
VERSION:2.0
PRODID:-//Tukios.com/
BEGIN:VEVENT
UID:d31e8bba-e139-4df2-a380-61bbc0687d02@www.migliacciofuneralhome.com
DTSTAMP:20260425T001722Z
DTSTART:20260430T133000Z
DTEND:20260430T143000Z
SUMMARY:Visitation
DESCRIPTION:
URL:https://www.migliacciofuneralhome.com/obituaries/paul-cancro-jr
LOCATION: 851 Kennedy Blvd  Bayonne NJ 07002
GEO:40.6748311;-74.1161505
END:VEVENT
END:VCALENDAR