BEGIN:VCALENDAR
VERSION:2.0
PRODID:-//Tukios.com/
BEGIN:VEVENT
UID:291166f8-b675-4ad1-80ce-2ac4d72babd2@www.migliacciofuneralhome.com
DTSTAMP:20260425T001722Z
DTSTART:20260430T163000Z
DTEND:20260430T173000Z
SUMMARY:Graveside Service
DESCRIPTION:
URL:https://www.migliacciofuneralhome.com/obituaries/paul-cancro-jr
LOCATION: 1500 Stuyvesant Ave  Union NJ 07083
GEO:40.7070673;-74.26038
END:VEVENT
END:VCALENDAR